BEGIN:VCALENDAR
VERSION:2.0
PRODID:-//ChamberMaster//Event Calendar 2.0//EN
METHOD:PUBLISH
X-PUBLISHED-TTL:P3D
REFRESH-INTERVAL:P3D
CALSCALE:GREGORIAN
BEGIN:VEVENT
DTSTART:20100714T170000Z
DTEND:20100714T180000Z
X-MICROSOFT-CDO-ALLDAYEVENT:FALSE
SUMMARY:Networking Lunch Jul 14 Sponsored by First Collinsville Bank
DESCRIPTION:Network with other businesses while enjoying a wonderful array of food and beverages.
X-ALT-DESC;FMTTYPE=text/html:<div>Network with other businesses while enjoying a wonderful array of food and beverages.</div>
LOCATION:Knights of Columbus Hall
UID:e.504.137
SEQUENCE:3
DTSTAMP:20260423T095912Z
URL:http://business.discovercollinsville.com/events/details/networking-lunch-jul-14-sponsored-by-first-collinsville-bank-07-14-2010-137
END:VEVENT

END:VCALENDAR
