BEGIN:VCALENDAR
VERSION:2.0
PRODID:-//ChamberMaster//Event Calendar 2.0//EN
METHOD:PUBLISH
X-PUBLISHED-TTL:P3D
REFRESH-INTERVAL:P3D
CALSCALE:GREGORIAN
BEGIN:VEVENT
DTSTART:20100113T180000Z
DTEND:20100113T190000Z
X-MICROSOFT-CDO-ALLDAYEVENT:FALSE
SUMMARY:Networking Lunch Jan 13 Image Rejuvination
DESCRIPTION:2010 kicks off with January's Networking Lunch being Sponsored by Image Rejuvination. Robert Jones will be discussing fitness\, detoxifying\, and weight loss. Be sure to ask about their far infrared image suana and their image whole body vibration training too!
X-ALT-DESC;FMTTYPE=text/html:<div>2010 kicks off with January's Networking Lunch being Sponsored by Image Rejuvination. Robert Jones will be discussing fitness\, detoxifying\, and weight loss. Be sure to ask about their far infrared image suana and their image whole body vibration training too!</div>
LOCATION:Knights of Columbus Hall
UID:e.504.119
SEQUENCE:3
DTSTAMP:20260425T204228Z
URL:http://business.discovercollinsville.com/events/details/networking-lunch-jan-13-image-rejuvination-01-13-2010-119
END:VEVENT

END:VCALENDAR
