BEGIN:VCALENDAR
VERSION:2.0
PRODID:-//ChamberMaster//Event Calendar 2.0//EN
METHOD:PUBLISH
X-PUBLISHED-TTL:P3D
REFRESH-INTERVAL:P3D
CALSCALE:GREGORIAN
BEGIN:VEVENT
DTSTART:20091014T170000Z
DTEND:20091014T180000Z
X-MICROSOFT-CDO-ALLDAYEVENT:FALSE
SUMMARY:Networking Lunch - category & sponsor TBA
DESCRIPTION:Networking Lunch - category and sponsor to be announced
X-ALT-DESC;FMTTYPE=text/html:<div>Networking Lunch - category and sponsor to be announced</div>
LOCATION:K/C Hall
UID:e.504.32
SEQUENCE:3
DTSTAMP:20260426T031828Z
URL:http://business.discovercollinsville.com/events/details/networking-lunch-category-sponsor-tba-10-14-2009-32
END:VEVENT

END:VCALENDAR
