BEGIN:VCALENDAR
VERSION:2.0
PRODID:-//ChamberMaster//Event Calendar 2.0//EN
METHOD:PUBLISH
X-PUBLISHED-TTL:P3D
REFRESH-INTERVAL:P3D
CALSCALE:GREGORIAN
BEGIN:VEVENT
DTSTART:20110413T170000Z
DTEND:20110413T180000Z
X-MICROSOFT-CDO-ALLDAYEVENT:FALSE
SUMMARY:Networking Lunch April '11
DESCRIPTION:Sponsored by Ameren IP.
X-ALT-DESC;FMTTYPE=text/html:Sponsored by Ameren IP.&nbsp\; 
LOCATION:Knights of Columbus Hall\, One Columbus Plaza\, off Illinois 157.
UID:e.504.321
SEQUENCE:3
DTSTAMP:20260422T175525Z
URL:http://business.discovercollinsville.com/events/details/networking-lunch-april-11-04-13-2011-321
END:VEVENT

END:VCALENDAR
