BEGIN:VCALENDAR
VERSION:2.0
PRODID:-//ChamberMaster//Event Calendar 2.0//EN
METHOD:PUBLISH
X-PUBLISHED-TTL:P3D
REFRESH-INTERVAL:P3D
CALSCALE:GREGORIAN
BEGIN:VEVENT
DTSTART:20100414T170000Z
DTEND:20100414T180000Z
X-MICROSOFT-CDO-ALLDAYEVENT:FALSE
SUMMARY:Networking Lunch Apr 14 A-1 Party & Wedding Rental
DESCRIPTION:Network with other businesses while enjoying an array of wonderful food and beverages.Networking Lunch sponsored by A-1 Party & Wedding Rental
X-ALT-DESC;FMTTYPE=text/html:<div>Network with other businesses while enjoying an array of wonderful food and beverages.</div><div>Networking Lunch sponsored by A-1 Party &amp\; Wedding Rental</div>
LOCATION:Knights of Columbus Hall
UID:e.504.127
SEQUENCE:3
DTSTAMP:20260425T155436Z
URL:http://business.discovercollinsville.com/events/details/networking-lunch-apr-14-a-1-party-wedding-rental-04-14-2010-127
END:VEVENT

END:VCALENDAR
