BEGIN:VCALENDAR
VERSION:2.0
PRODID:-//ChamberMaster//Event Calendar 2.0//EN
METHOD:PUBLISH
X-PUBLISHED-TTL:P3D
REFRESH-INTERVAL:P3D
CALSCALE:GREGORIAN
BEGIN:VEVENT
DTSTART:20110209T180000Z
DTEND:20110209T190000Z
X-MICROSOFT-CDO-ALLDAYEVENT:FALSE
SUMMARY:Networking Lunch - 02-09-2011
DESCRIPTION:Sponsored by Chiropractic Works.
X-ALT-DESC;FMTTYPE=text/html:Sponsored by Chiropractic Works. 
LOCATION:Knights of Columbus Hall\, One Columbus Plaza\, off Illinois 157.
UID:e.504.319
SEQUENCE:3
DTSTAMP:20260422T214828Z
URL:http://business.discovercollinsville.com/events/details/networking-lunch-02-09-2011-02-09-2011-319
END:VEVENT

END:VCALENDAR
