BEGIN:VCALENDAR
VERSION:2.0
PRODID:-//ChamberMaster//Event Calendar 2.0//EN
METHOD:PUBLISH
X-PUBLISHED-TTL:P3D
REFRESH-INTERVAL:P3D
CALSCALE:GREGORIAN
BEGIN:VEVENT
DTSTART:20110112T180000Z
DTEND:20110112T190000Z
X-MICROSOFT-CDO-ALLDAYEVENT:FALSE
SUMMARY:Networking Lunch - 01-12-2011
DESCRIPTION:Sponsored by UMB. Presentation: Small business fraud and protective measures to prevent fraud.
X-ALT-DESC;FMTTYPE=text/html:Sponsored by UMB. Presentation: Small business fraud and protective measures to prevent fraud.
LOCATION:Knights of Columbus Hall\, Columbus Plaza (off Illinois 157)
UID:e.504.316
SEQUENCE:3
DTSTAMP:20260422T233428Z
URL:http://business.discovercollinsville.com/events/details/networking-lunch-01-12-2011-01-12-2011-316
END:VEVENT

END:VCALENDAR
