BEGIN:VCALENDAR
VERSION:2.0
PRODID:-//ChamberMaster//Event Calendar 2.0//EN
METHOD:PUBLISH
X-PUBLISHED-TTL:P3D
REFRESH-INTERVAL:P3D
CALSCALE:GREGORIAN
BEGIN:VEVENT
DTSTART:20100306T140000Z
DTEND:20100306T180000Z
X-MICROSOFT-CDO-ALLDAYEVENT:FALSE
SUMMARY:Mothers of multiples Metro East St. Louis
DESCRIPTION:The sale is set up like a department store with central ELECTRONIC checkouts. Clothing is all hung and separated by size and by sex\, with sections for equipment\, books\, puzzles\, electronics\, and so much more\, enabling you to get the best deals for your items.\n\nThis Spring sale features items including Easter apparel outdoor items. Our Fall sale features all fall and winter items including Halloween costumes\, Christmas apparel\, fall & winter coats\, hats\, mittens\, and snow gear.\n\nGET VIP SHOPPING! This pass will enable you to shop one hour prior to the public & will be limited to 50 people. Call to be put on our VIP list: 618-806-9820. Must provide your full name & show an id at the door. The cost is $10.00 each payable at the door. VIP shoppers are permitted in at 7am.
X-ALT-DESC;FMTTYPE=text/html:<div>The sale is set up like a department store with central ELECTRONIC checkouts. Clothing is all hung and separated by size and by sex\, with sections for equipment\, books\, puzzles\, electronics\,&nbsp\;and so much more\,&nbsp\;enabling you to get the best deals for your items.<br /><br />This Spring sale features items including Easter apparel outdoor items. Our Fall sale features all fall and winter items including Halloween costumes\, Christmas apparel\, fall &amp\; winter coats\, hats\, mittens\, and snow gear.<br /><br />GET VIP SHOPPING! This pass will enable you to shop one hour prior to the public &amp\; will be limited to 50 people. Call to be put on our VIP list: 618-806-9820. Must provide your full name &amp\; show an id at the door. The cost is $10.00 each payable at the door. VIP shoppers are permitted in at 7am.</div>
LOCATION:1 Gateway Dr.Collinsville\, IL 62234
UID:e.504.159
SEQUENCE:3
DTSTAMP:20260425T174635Z
URL:http://business.discovercollinsville.com/events/details/mothers-of-multiples-metro-east-st-louis-03-06-2010-159
END:VEVENT

END:VCALENDAR
