BEGIN:VCALENDAR
VERSION:2.0
PRODID:-//ChamberMaster//Event Calendar 2.0//EN
METHOD:PUBLISH
X-PUBLISHED-TTL:P3D
REFRESH-INTERVAL:P3D
CALSCALE:GREGORIAN
BEGIN:VEVENT
DTSTART:20100408T220000Z
DTEND:20100409T003000Z
X-MICROSOFT-CDO-ALLDAYEVENT:FALSE
SUMMARY:Membership Appreciation Dinner
DESCRIPTION:
X-ALT-DESC;FMTTYPE=text/html:
LOCATION:Double Tree Hotel1000 Eastport PlazaCollinsville\, IL 62234
UID:e.504.126
SEQUENCE:3
DTSTAMP:20260425T155007Z
URL:http://business.discovercollinsville.com/events/details/membership-appreciation-dinner-04-08-2010-126
END:VEVENT

END:VCALENDAR
