BEGIN:VCALENDAR
VERSION:2.0
PRODID:-//ChamberMaster//Event Calendar 2.0//EN
METHOD:PUBLISH
X-PUBLISHED-TTL:P3D
REFRESH-INTERVAL:P3D
CALSCALE:GREGORIAN
BEGIN:VEVENT
DTSTART:20100508T130000Z
DTEND:20100509T024500Z
X-MICROSOFT-CDO-ALLDAYEVENT:FALSE
SUMMARY:Magic: The Gathering Midwest Masters Series
DESCRIPTION:Magic: The gathering Midwest Masters Series
X-ALT-DESC;FMTTYPE=text/html:<div>Magic: The gathering Midwest Masters Series</div>
LOCATION:1 Gateway Dr.Collinsville\, IL 62234
UID:e.504.178
SEQUENCE:3
DTSTAMP:20260425T141349Z
URL:http://business.discovercollinsville.com/events/details/magic-the-gathering-midwest-masters-series-05-08-2010-178
END:VEVENT

END:VCALENDAR
