BEGIN:VCALENDAR
VERSION:2.0
PRODID:-//ChamberMaster//Event Calendar 2.0//EN
METHOD:PUBLISH
X-PUBLISHED-TTL:P3D
REFRESH-INTERVAL:P3D
CALSCALE:GREGORIAN
BEGIN:VEVENT
DTSTART:20090923T230000Z
DTEND:20090924T030000Z
X-MICROSOFT-CDO-ALLDAYEVENT:FALSE
SUMMARY:Last Taste of Summer
DESCRIPTION:Last Taste of Summer "Old Fashioned Cookout" at the American Legion.  Sponsored by the Hometown Phone Book\, American Legion Post 365 and Schnucks.
X-ALT-DESC;FMTTYPE=text/html:<div>Last Taste of Summer &quot\;Old Fashioned Cookout&quot\;&nbsp\;at the American Legion.&nbsp\; Sponsored by the Hometown Phone Book\,&nbsp\;American Legion Post 365 and Schnucks.</div>
LOCATION:American Legion Post 365\, 1022 Vandalia
UID:e.504.30
SEQUENCE:3
DTSTAMP:20260426T032207Z
URL:http://business.discovercollinsville.com/events/details/last-taste-of-summer-09-23-2009-30
END:VEVENT

END:VCALENDAR
