BEGIN:VCALENDAR
VERSION:2.0
PRODID:-//ChamberMaster//Event Calendar 2.0//EN
METHOD:PUBLISH
X-PUBLISHED-TTL:P3D
REFRESH-INTERVAL:P3D
CALSCALE:GREGORIAN
BEGIN:VEVENT
DTSTART:20110127T170000Z
DTEND:20110128T003000Z
X-MICROSOFT-CDO-ALLDAYEVENT:FALSE
SUMMARY:Java & Jewels
DESCRIPTION:Java & Jewels ? January 27 and February 10\, 2011 from 11 am to 6:30 pm.  Hosted by Caffe? Avanti Gourmet Sandwiches and Coffee\, 217 E Vandalia\, Edwardsville\, and Premier Jewelry.  10% of all Caffe? Avanti purchases and 50% of all Premier Jewelry sales will be donated to support the programs and services of Hospice of Southern Illinois.  For more information contact 235-1703 or Sue at sreilmann@hospice.org or Kathy at kwilson@hospice.org.
X-ALT-DESC;FMTTYPE=text/html:Java &amp\; Jewels ? January 27 and February 10\, 2011 from 11 am to 6:30 pm.  Hosted by Caffe? Avanti Gourmet Sandwiches and Coffee\, 217 E Vandalia\, Edwardsville\, and Premier Jewelry.  10% of all Caffe? Avanti purchases and 50% of all Premier Jewelry sales will be donated to support the programs and services of Hospice of Southern Illinois.  For more information contact 235-1703 or Sue at sreilmann@hospice.org or Kathy at kwilson@hospice.org.    
LOCATION:Avanti Gourmet Sandwiches and Coffee\, 217 E Vandalia\, Edwardsville
UID:e.504.334
SEQUENCE:3
DTSTAMP:20260422T231515Z
URL:http://business.discovercollinsville.com/events/details/java-jewels-01-27-2011-334
END:VEVENT

END:VCALENDAR
