BEGIN:VCALENDAR
VERSION:2.0
PRODID:-//ChamberMaster//Event Calendar 2.0//EN
METHOD:PUBLISH
X-PUBLISHED-TTL:P3D
REFRESH-INTERVAL:P3D
CALSCALE:GREGORIAN
BEGIN:VEVENT
DTSTART;VALUE=DATE:20100918
DTEND;VALUE=DATE:20100919
TRANSP:TRANSPARENT
X-MICROSOFT-CDO-ALLDAYEVENT:TRUE
SUMMARY:Italian Fest
DESCRIPTION:This annual event includes the Paisan Pedal Push\, 5K Run-Walk\, Italian bands and local performers\, a Grape Stomp\, the Little Miss and Mister Italian Fest Pagent\, and so much more. So come on out and enjoy the fun.
X-ALT-DESC;FMTTYPE=text/html:<div>This annual event includes the Paisan Pedal Push\, 5K Run-Walk\, Italian bands and local performers\, a Grape Stomp\, the Little Miss and Mister Italian Fest Pagent\, and so much more. So come on out and enjoy the fun.</div>
LOCATION:Uptown CollinsvileMain St.Collinsville\, IL 62234
UID:e.504.144
SEQUENCE:3
DTSTAMP:20260423T061500Z
URL:http://business.discovercollinsville.com/events/details/italian-fest-09-18-2010-144
END:VEVENT

END:VCALENDAR
