BEGIN:VCALENDAR
VERSION:2.0
PRODID:-//ChamberMaster//Event Calendar 2.0//EN
METHOD:PUBLISH
X-PUBLISHED-TTL:P3D
REFRESH-INTERVAL:P3D
CALSCALE:GREGORIAN
BEGIN:VEVENT
DTSTART;VALUE=DATE:20090918
DTEND;VALUE=DATE:20090920
TRANSP:TRANSPARENT
X-MICROSOFT-CDO-ALLDAYEVENT:TRUE
SUMMARY:Italian Fest
DESCRIPTION:Italian Fest
X-ALT-DESC;FMTTYPE=text/html:<div>Italian Fest</div>
LOCATION:Main Street - Collinsville
UID:e.504.29
SEQUENCE:3
DTSTAMP:20260426T032051Z
URL:http://business.discovercollinsville.com/events/details/italian-fest-09-18-2009-29
END:VEVENT

END:VCALENDAR
