BEGIN:VCALENDAR
VERSION:2.0
PRODID:-//ChamberMaster//Event Calendar 2.0//EN
METHOD:PUBLISH
X-PUBLISHED-TTL:P3D
REFRESH-INTERVAL:P3D
CALSCALE:GREGORIAN
BEGIN:VEVENT
DTSTART;VALUE=DATE:20110916
DTEND;VALUE=DATE:20110918
TRANSP:TRANSPARENT
X-MICROSOFT-CDO-ALLDAYEVENT:TRUE
SUMMARY:Italian Fest
DESCRIPTION:Grape Stomp\, 5-K kids Fun Run\, Bocce Tournament\, Parade\, Live Entertainment\, Children's Area\, Wine Garden\, Authentic Italian Fare!
X-ALT-DESC;FMTTYPE=text/html:<p>\n	Grape Stomp\, 5-K kids Fun Run\, Bocce Tournament\, Parade\, Live Entertainment\, Children&#39\;s Area\, Wine Garden\, Authentic Italian Fare!</p>\n
LOCATION:Main Street
UID:e.504.364
SEQUENCE:3
DTSTAMP:20260422T082757Z
URL:http://business.discovercollinsville.com/events/details/italian-fest-09-16-2011-364
END:VEVENT

END:VCALENDAR
