BEGIN:VCALENDAR
VERSION:2.0
PRODID:-//ChamberMaster//Event Calendar 2.0//EN
METHOD:PUBLISH
X-PUBLISHED-TTL:P3D
REFRESH-INTERVAL:P3D
CALSCALE:GREGORIAN
BEGIN:VEVENT
DTSTART;VALUE=DATE:20100606
DTEND;VALUE=DATE:20100607
TRANSP:TRANSPARENT
X-MICROSOFT-CDO-ALLDAYEVENT:TRUE
SUMMARY:International Horseradish Festival
DESCRIPTION:For more than 20 years\, the Horseradish Festival has celebrated the under utilized spicy member of the mustard family\, and has brought people from around the Midwest as well as the country to Collinsville for fun and entertainment. And this year is not exception. The Horseradish Festival will feature great bands\, food booths\, root toss\, root golf\, root sacking contest\, a craft fair\, Bloody Mary contest\, horseradish cooking contest\, an expaned children's area\, the Little Miss Horseradish\, and the Annual Horseradish Root Derby. Come on out an enjoy the fun.
X-ALT-DESC;FMTTYPE=text/html:<div>For more than 20 years\, the Horseradish Festival has celebrated the under utilized spicy member of the mustard family\, and has brought people from around the Midwest as well as the country to Collinsville for fun and entertainment. And this year is not exception.</div><div>&nbsp\;</div><div>The Horseradish Festival will feature great bands\, food booths\, root toss\, root golf\, root sacking contest\, a craft fair\, Bloody Mary contest\, horseradish cooking contest\, an expaned children's area\, the Little Miss Horseradish\, and the Annual Horseradish Root Derby. Come on out an enjoy the fun.</div>
LOCATION:Woodland ParkPine Lake Rd. and OliveCollinsville\, IL 62234
UID:e.504.133
SEQUENCE:3
DTSTAMP:20260425T123055Z
URL:http://business.discovercollinsville.com/events/details/international-horseradish-festival-06-06-2010-133
END:VEVENT

END:VCALENDAR
