BEGIN:VCALENDAR
VERSION:2.0
PRODID:-//ChamberMaster//Event Calendar 2.0//EN
METHOD:PUBLISH
X-PUBLISHED-TTL:P3D
REFRESH-INTERVAL:P3D
CALSCALE:GREGORIAN
BEGIN:VEVENT
DTSTART;VALUE=DATE:20100605
DTEND;VALUE=DATE:20100606
TRANSP:TRANSPARENT
X-MICROSOFT-CDO-ALLDAYEVENT:TRUE
SUMMARY:International Horseradish Festival
DESCRIPTION:For more tahn 20 years\, the Horseradish Festival has celebrated the under utilized spicy memebr of the mustard family and has brought people from around the Midwest as well as the country to Collinsville for fun and entertainment. And this year is no exception.\nThe Horseradish Festival will feature great bands\, food booths\, root toss\, root golf\, root sacking contest\, craft fair\, Bloody Mary Contest\, horseradish cooking contest\, an expanded children's area\, Little Miss Horseradish\, and the Annual Horseradish Root Derby. Come on out and experience all the fun!
X-ALT-DESC;FMTTYPE=text/html:<div>For more tahn 20 years\, the Horseradish Festival has celebrated the under utilized spicy memebr of the mustard family and has brought people from around the Midwest as well as the country to Collinsville for fun and entertainment. And this year is no exception.</div><div><br />The Horseradish Festival will feature great bands\, food booths\, root toss\, root golf\, root sacking contest\, craft fair\, Bloody Mary Contest\, horseradish cooking contest\, an expanded children&rsquo\;s area\, Little Miss&nbsp\;Horseradish\,&nbsp\;and the Annual Horseradish Root Derby. Come on out and experience all the fun!</div>
LOCATION:Woodland ParkThe intersection of Pine Lake Rd and Olive St.One block east of South State 159
UID:e.504.132
SEQUENCE:3
DTSTAMP:20260425T141933Z
URL:http://business.discovercollinsville.com/events/details/international-horseradish-festival-06-05-2010-132
END:VEVENT

END:VCALENDAR
