BEGIN:VCALENDAR
VERSION:2.0
PRODID:-//ChamberMaster//Event Calendar 2.0//EN
METHOD:PUBLISH
X-PUBLISHED-TTL:P3D
REFRESH-INTERVAL:P3D
CALSCALE:GREGORIAN
BEGIN:VEVENT
DTSTART;VALUE=DATE:20110604
DTEND;VALUE=DATE:20110606
TRANSP:TRANSPARENT
X-MICROSOFT-CDO-ALLDAYEVENT:TRUE
SUMMARY:International Horseradish Festival
DESCRIPTION:Live music\, bloody mary contest\, root toss\, washer tournament\, little miss horserashish festival pagent\, root golf\, fishing derby\, amateur recipe contest\, root sacking\, arts & crafts village\, food vendors\, root derby!
X-ALT-DESC;FMTTYPE=text/html:<p>\n	Live music\, bloody mary contest\, root toss\, washer tournament\, little miss horserashish festival pagent\, root golf\, fishing derby\, amateur recipe contest\, root sacking\, arts &amp\; crafts village\, food vendors\, root derby!</p>\n
LOCATION:Woodland Park
UID:e.504.358
SEQUENCE:3
DTSTAMP:20260422T143036Z
URL:http://business.discovercollinsville.com/events/details/international-horseradish-festival-06-04-2011-358
END:VEVENT

END:VCALENDAR
