BEGIN:VCALENDAR
VERSION:2.0
PRODID:-//ChamberMaster//Event Calendar 2.0//EN
METHOD:PUBLISH
X-PUBLISHED-TTL:P3D
REFRESH-INTERVAL:P3D
CALSCALE:GREGORIAN
BEGIN:VEVENT
DTSTART:20100328T160000Z
DTEND:20100328T220000Z
X-MICROSOFT-CDO-ALLDAYEVENT:FALSE
SUMMARY:International Gem & Jewlery Show\, Inc.
DESCRIPTION:International Gem & Jewlery Show\, Inc.
X-ALT-DESC;FMTTYPE=text/html:<div>International Gem &amp\; Jewlery Show\, Inc.</div>
LOCATION:1 Gateway Dr.Collinsville\, IL 62234
UID:e.504.170
SEQUENCE:3
DTSTAMP:20260425T191802Z
URL:http://business.discovercollinsville.com/events/details/international-gem-jewlery-show-inc-03-28-2010-170
END:VEVENT

END:VCALENDAR
