BEGIN:VCALENDAR
VERSION:2.0
PRODID:-//ChamberMaster//Event Calendar 2.0//EN
METHOD:PUBLISH
X-PUBLISHED-TTL:P3D
REFRESH-INTERVAL:P3D
CALSCALE:GREGORIAN
BEGIN:VEVENT
DTSTART:20100326T170000Z
DTEND:20100326T230000Z
X-MICROSOFT-CDO-ALLDAYEVENT:FALSE
SUMMARY:International Gem & Jewlery Show\, Inc
DESCRIPTION:International Gem & Jewlery Show\, Inc.
X-ALT-DESC;FMTTYPE=text/html:<div>International Gem &amp\; Jewlery Show\, Inc.</div>
LOCATION:1 Gateway Dr.Collinsville\, IL 62234
UID:e.504.168
SEQUENCE:3
DTSTAMP:20260425T191820Z
URL:http://business.discovercollinsville.com/events/details/international-gem-jewlery-show-inc-03-26-2010-168
END:VEVENT

END:VCALENDAR
