BEGIN:VCALENDAR
VERSION:2.0
PRODID:-//ChamberMaster//Event Calendar 2.0//EN
METHOD:PUBLISH
X-PUBLISHED-TTL:P3D
REFRESH-INTERVAL:P3D
CALSCALE:GREGORIAN
BEGIN:VEVENT
DTSTART:20100321T130000Z
DTEND:20100321T190000Z
X-MICROSOFT-CDO-ALLDAYEVENT:FALSE
SUMMARY:Illinois Archaeological Society
DESCRIPTION:Illinois Archaeological Society
X-ALT-DESC;FMTTYPE=text/html:<div>Illinois Archaeological Society</div>
LOCATION:1 Gateway Dr.Collinsville\, IL 62234
UID:e.504.167
SEQUENCE:3
DTSTAMP:20260425T173020Z
URL:http://business.discovercollinsville.com/events/details/illinois-archaeological-society-03-21-2010-167
END:VEVENT

END:VCALENDAR
