BEGIN:VCALENDAR
VERSION:2.0
PRODID:-//ChamberMaster//Event Calendar 2.0//EN
METHOD:PUBLISH
X-PUBLISHED-TTL:P3D
REFRESH-INTERVAL:P3D
CALSCALE:GREGORIAN
BEGIN:VEVENT
DTSTART:20101110T220000Z
DTEND:20101110T230000Z
X-MICROSOFT-CDO-ALLDAYEVENT:FALSE
SUMMARY:Heartland Healthcare of Collinsville Open House
DESCRIPTION:Celebrate the Grand Opening and Ribbon Cutting of Heartland Healthcare of Collinsville with Dr. Rashmin Adesara and Dr. Melissa Smith members of the medical staff at Gateway Regional Medical Center.
X-ALT-DESC;FMTTYPE=text/html:Celebrate the Grand Opening and Ribbon Cutting of Heartland Healthcare of Collinsville with Dr. Rashmin Adesara and Dr. Melissa Smith members of the medical staff at Gateway Regional Medical Center.
LOCATION:101 United Drive\, Collinsville Located off Rt 157 behind Culver's
UID:e.504.307
SEQUENCE:3
DTSTAMP:20260423T044926Z
URL:http://business.discovercollinsville.com/events/details/heartland-healthcare-of-collinsville-open-house-11-10-2010-307
END:VEVENT

END:VCALENDAR
