BEGIN:VCALENDAR
VERSION:2.0
PRODID:-//ChamberMaster//Event Calendar 2.0//EN
METHOD:PUBLISH
X-PUBLISHED-TTL:P3D
REFRESH-INTERVAL:P3D
CALSCALE:GREGORIAN
BEGIN:VEVENT
DTSTART;VALUE=DATE:20100423
DTEND;VALUE=DATE:20100424
TRANSP:TRANSPARENT
X-MICROSOFT-CDO-ALLDAYEVENT:TRUE
SUMMARY:Golf Play Day
DESCRIPTION:Come join us at the beautiful Arlington Greens for a fun day of golfing.
X-ALT-DESC;FMTTYPE=text/html:<div>Come join us at the beautiful Arlington Greens for a fun day of golfing.</div>
LOCATION:200 Arlington Dr.Granite City\, IL 62040
UID:e.504.128
SEQUENCE:3
DTSTAMP:20260425T155057Z
URL:http://business.discovercollinsville.com/events/details/golf-play-day-04-23-2010-128
END:VEVENT

END:VCALENDAR
