BEGIN:VCALENDAR
VERSION:2.0
PRODID:-//ChamberMaster//Event Calendar 2.0//EN
METHOD:PUBLISH
X-PUBLISHED-TTL:P3D
REFRESH-INTERVAL:P3D
CALSCALE:GREGORIAN
BEGIN:VEVENT
DTSTART:20101027T220000Z
DTEND:20101028T000000Z
X-MICROSOFT-CDO-ALLDAYEVENT:FALSE
SUMMARY:Gateway Center ChamberNet 2010
DESCRIPTION:This Business After Hours Event brings hundreds of business professionals from 11 Chambers in the Metro-East to one event.  This Halloween themed networking event will feature two costume contests: one for Chamber Directors and One for All Attendees.  Free Admission for all Chamber Members\, Complementary food and drink\, lots of free parking\, and fun attendance prizes.
X-ALT-DESC;FMTTYPE=text/html:<p>\n	This Business After Hours Event brings hundreds of business professionals from 11 Chambers in the Metro-East to one event.&nbsp\; This Halloween themed networking event will feature two costume contests: one for Chamber Directors and One for All&nbsp\;Attendees.&nbsp\; Free Admission for all Chamber Members\,&nbsp\;Complementary food and drink\, lots&nbsp\;of&nbsp\;free parking\, and fun attendance prizes.&nbsp\;</p>\n
LOCATION:Gateway Center\, Collinsville
UID:e.504.304
SEQUENCE:3
DTSTAMP:20260423T061342Z
URL:http://business.discovercollinsville.com/events/details/gateway-center-chambernet-2010-10-27-2010-304
END:VEVENT

END:VCALENDAR
