BEGIN:VCALENDAR
VERSION:2.0
PRODID:-//ChamberMaster//Event Calendar 2.0//EN
METHOD:PUBLISH
X-PUBLISHED-TTL:P3D
REFRESH-INTERVAL:P3D
CALSCALE:GREGORIAN
BEGIN:VEVENT
DTSTART:20091028T220000Z
DTEND:20091029T000000Z
X-MICROSOFT-CDO-ALLDAYEVENT:FALSE
SUMMARY:Gateway Center ChamberNet 2009
DESCRIPTION:Network with people from all over the Metro East area at ChamberNet 2009! Be prepared for food\, fun and prizes and mingle with Chamber members from several areas. Wear your best Halloween costume and enter the Costume Contest for fun prizes.
X-ALT-DESC;FMTTYPE=text/html:<div>Network with people from all over the Metro East area at ChamberNet 2009! Be prepared for food\, fun and prizes and mingle with Chamber members from several areas. Wear your best Halloween costume and enter the Costume Contest for fun prizes.</div>
LOCATION:Gateway Center\, One Gateway Drive in Collinsville
UID:e.504.113
SEQUENCE:3
DTSTAMP:20260426T015853Z
URL:http://business.discovercollinsville.com/events/details/gateway-center-chambernet-2009-10-28-2009-113
END:VEVENT

END:VCALENDAR
