BEGIN:VCALENDAR
VERSION:2.0
PRODID:-//ChamberMaster//Event Calendar 2.0//EN
METHOD:PUBLISH
X-PUBLISHED-TTL:P3D
REFRESH-INTERVAL:P3D
CALSCALE:GREGORIAN
BEGIN:VEVENT
DTSTART:20100718T180000Z
DTEND:20100718T220000Z
X-MICROSOFT-CDO-ALLDAYEVENT:FALSE
SUMMARY:Gateway Bridal Show
DESCRIPTION:Let the Gateway Bridal Show take the stress out of your wedding planning! We bring you a face-to-face sampling of virtually everything you?ll need to make your wedding day perfect! This show will save brides time and money as they are able to meet\, shop and compare pricing all in one afternoon instead of spending weeks searching online and making calls.
X-ALT-DESC;FMTTYPE=text/html:Let the Gateway Bridal Show take the stress out of your wedding planning! We bring you a face-to-face sampling of virtually everything you?ll need to make your wedding day perfect! This show will save brides time and money as they are able to meet\, shop and compare pricing all in one afternoon instead of spending weeks searching online and making calls.
LOCATION:Gateway Center
UID:e.504.275
SEQUENCE:3
DTSTAMP:20260423T095614Z
URL:http://business.discovercollinsville.com/events/details/gateway-bridal-show-07-18-2010-275
END:VEVENT

END:VCALENDAR
