BEGIN:VCALENDAR
VERSION:2.0
PRODID:-//ChamberMaster//Event Calendar 2.0//EN
METHOD:PUBLISH
X-PUBLISHED-TTL:P3D
REFRESH-INTERVAL:P3D
CALSCALE:GREGORIAN
BEGIN:VEVENT
DTSTART:20110122T153000Z
DTEND:20110122T170000Z
X-MICROSOFT-CDO-ALLDAYEVENT:FALSE
SUMMARY:Free Computer Maintenance Seminar
DESCRIPTION:We will provide information about keeping your computer safe\, secure and working optimally. The seminar will include a presentation\, demonstrations and hands-on. \n\n\n\nWe have other topics that we will be discussing each month.
X-ALT-DESC;FMTTYPE=text/html:We will provide information about keeping your computer safe\, secure and working optimally. The seminar will include a presentation\, demonstrations and hands-on. \n<br>\n<br>We have other topics that we will be discussing each month. 
LOCATION:Collinsville Library
UID:e.504.315
SEQUENCE:3
DTSTAMP:20260422T233428Z
URL:http://business.discovercollinsville.com/events/details/free-computer-maintenance-seminar-01-22-2011-315
END:VEVENT

END:VCALENDAR
