BEGIN:VCALENDAR
VERSION:2.0
PRODID:-//ChamberMaster//Event Calendar 2.0//EN
METHOD:PUBLISH
X-PUBLISHED-TTL:P3D
REFRESH-INTERVAL:P3D
CALSCALE:GREGORIAN
BEGIN:VEVENT
DTSTART:20100730T210000Z
DTEND:20100731T010000Z
X-MICROSOFT-CDO-ALLDAYEVENT:FALSE
SUMMARY:First Day (City of Collinsville)
DESCRIPTION:This event showcases a number of resources and services for families to become familiar with and take advantage of what is available within the community\, along with fun games and contests taking place the end of July. It is a wonderful way for residents to re-familiarize themselves with what is available to them.
X-ALT-DESC;FMTTYPE=text/html:<div>This event showcases a number of resources and services for families to become familiar with and take advantage of what is available within the community\, along with fun games and contests taking place the end of July. It is a wonderful way for residents to re-familiarize themselves with what is available to them.&nbsp\;</div>
LOCATION:1 Gateway Dr.Collinsville\, IL 62234
UID:e.504.138
SEQUENCE:3
DTSTAMP:20260423T100109Z
URL:http://business.discovercollinsville.com/events/details/first-day-city-of-collinsville-07-30-2010-138
END:VEVENT

END:VCALENDAR
