BEGIN:VCALENDAR
VERSION:2.0
PRODID:-//ChamberMaster//Event Calendar 2.0//EN
METHOD:PUBLISH
X-PUBLISHED-TTL:P3D
REFRESH-INTERVAL:P3D
CALSCALE:GREGORIAN
BEGIN:VEVENT
DTSTART:20111019T140000Z
DTEND:20111019T190000Z
X-MICROSOFT-CDO-ALLDAYEVENT:FALSE
SUMMARY:Fall Senior Fair
DESCRIPTION:
X-ALT-DESC;FMTTYPE=text/html:
LOCATION:Collinsville Township Senior Center: 420 E Main Street
UID:e.504.412
SEQUENCE:3
DTSTAMP:20260422T062326Z
URL:http://business.discovercollinsville.com/events/details/fall-senior-fair-10-19-2011-412
END:VEVENT

END:VCALENDAR
