BEGIN:VCALENDAR
VERSION:2.0
PRODID:-//ChamberMaster//Event Calendar 2.0//EN
METHOD:PUBLISH
X-PUBLISHED-TTL:P3D
REFRESH-INTERVAL:P3D
CALSCALE:GREGORIAN
BEGIN:VEVENT
DTSTART;VALUE=DATE:20110317
DTEND;VALUE=DATE:20110318
TRANSP:TRANSPARENT
X-MICROSOFT-CDO-ALLDAYEVENT:TRUE
SUMMARY:Event at Verizon Wireless (HTC Thunderbolt Release)
DESCRIPTION:Be the first to experience The Fastest\, Most Advanced 4G Network in America with the release of Verizon's first 4G device the Thunderbolt by HTC.   The ThunderBolt features: Android 2.2 operating system with HTC Sense 2.0\, HTML Browser with Adobe Flash 10.1\, 8.0 MP rear-facing camera with 720P HD recording\, 1.3 MP front-facing webcam\, Simultaneous voice and data in 3G and 4G\, great audio\, solid kickstand\, amazing display and many other features.  Be the first to experience Real 4G speeds at Verizon Wireless.
X-ALT-DESC;FMTTYPE=text/html:Be the first to experience The Fastest\, Most Advanced 4G Network in America with the release of Verizon's first 4G device the Thunderbolt by HTC.   The ThunderBolt features: Android 2.2 operating system with HTC Sense 2.0\, HTML Browser with Adobe Flash 10.1\, 8.0 MP rear-facing camera with 720P HD recording\, 1.3 MP front-facing webcam\, Simultaneous voice and data in 3G and 4G\, great audio\, solid kickstand\, amazing display and many other features.  Be the first to experience Real 4G speeds at Verizon Wireless.
LOCATION:Verizon Wireless Collinsville (Next to Wal-Mart and Qdoba) 1108 Collinsville Crossing Blvd Collinsville\, IL. 62234
UID:e.504.357
SEQUENCE:3
DTSTAMP:20260422T195850Z
URL:http://business.discovercollinsville.com/events/details/event-at-verizon-wireless-htc-thunderbolt-release-03-17-2011-357
END:VEVENT

END:VCALENDAR
