BEGIN:VCALENDAR
VERSION:2.0
PRODID:-//ChamberMaster//Event Calendar 2.0//EN
METHOD:PUBLISH
X-PUBLISHED-TTL:P3D
REFRESH-INTERVAL:P3D
CALSCALE:GREGORIAN
BEGIN:VEVENT
DTSTART;VALUE=DATE:20110529
DTEND;VALUE=DATE:20110601
TRANSP:TRANSPARENT
X-MICROSOFT-CDO-ALLDAYEVENT:TRUE
SUMMARY:Event at Verizon Wireless
DESCRIPTION:Verizon Wireless Customer Appreciation weekend from May 27th - May 29th. Allow us to Thank You for your business by taking advantage of special discounts on select 3G smartphones\, Home phone bundle promotions\, and Pay-as-you-go specials.  \n\n\n\n**Special Chamber Member Promotion**\n\nFree Activation and 25% off accessories. \n\n\n\nAppointments available upon request.
X-ALT-DESC;FMTTYPE=text/html:Verizon Wireless Customer Appreciation weekend from&nbsp\;May 27th - May 29th. Allow us to Thank You for your business by taking advantage of&nbsp\;special discounts&nbsp\;on&nbsp\;select 3G smartphones\, Home phone bundle promotions\, and Pay-as-you-go specials. &nbsp\;<br />\n<br />\n**Special Chamber Member Promotion**<br />\nFree Activation and 25% off accessories.&nbsp\;<br />\n<br />\nAppointments available upon request.
LOCATION:Verizon WIreless 1108 Collinsville Crossing Blvd\, Next to Qdoba and Wal-Mart
UID:e.504.401
SEQUENCE:3
DTSTAMP:20260422T181420Z
URL:http://business.discovercollinsville.com/events/details/event-at-verizon-wireless-05-29-2011-401
END:VEVENT

END:VCALENDAR
