BEGIN:VCALENDAR
VERSION:2.0
PRODID:-//ChamberMaster//Event Calendar 2.0//EN
METHOD:PUBLISH
X-PUBLISHED-TTL:P3D
REFRESH-INTERVAL:P3D
CALSCALE:GREGORIAN
BEGIN:VEVENT
DTSTART;VALUE=DATE:20100515
DTEND;VALUE=DATE:20100516
TRANSP:TRANSPARENT
X-MICROSOFT-CDO-ALLDAYEVENT:TRUE
SUMMARY:Event at T-Mobile
DESCRIPTION:Grand Opening - Drawings for Blue tooth ear pieces\, Balloon man\, Music and food
X-ALT-DESC;FMTTYPE=text/html:Grand Opening - Drawings for Blue tooth ear pieces\, Balloon man\, Music and food
LOCATION:1170 Collinsville Crossing Blvd.\, Collinsville\, IL 62234
UID:e.504.192
SEQUENCE:3
DTSTAMP:20260425T141315Z
URL:http://business.discovercollinsville.com/events/details/event-at-t-mobile-05-15-2010-192
END:VEVENT

END:VCALENDAR
