BEGIN:VCALENDAR
VERSION:2.0
PRODID:-//ChamberMaster//Event Calendar 2.0//EN
METHOD:PUBLISH
X-PUBLISHED-TTL:P3D
REFRESH-INTERVAL:P3D
CALSCALE:GREGORIAN
BEGIN:VEVENT
DTSTART:20100713T140000Z
DTEND:20100713T170000Z
X-MICROSOFT-CDO-ALLDAYEVENT:FALSE
SUMMARY:Event at St. John Evangelical UCC
DESCRIPTION:VBS - Vacation Bible School
X-ALT-DESC;FMTTYPE=text/html:VBS - Vacation Bible School
LOCATION:St. John Evangelical UCC
UID:e.504.193
SEQUENCE:3
DTSTAMP:20260423T095322Z
URL:http://business.discovercollinsville.com/events/details/event-at-st-john-evangelical-ucc-07-13-2010-193
END:VEVENT

END:VCALENDAR
