BEGIN:VCALENDAR
VERSION:2.0
PRODID:-//ChamberMaster//Event Calendar 2.0//EN
METHOD:PUBLISH
X-PUBLISHED-TTL:P3D
REFRESH-INTERVAL:P3D
CALSCALE:GREGORIAN
BEGIN:VEVENT
DTSTART:20100506T220000Z
DTEND:20100508T020000Z
X-MICROSOFT-CDO-ALLDAYEVENT:FALSE
SUMMARY:Event at St. John Evangelical UCC
DESCRIPTION:Church-wide Rummage Sale to support the ministries of our women's group\, the Evening Circle.
X-ALT-DESC;FMTTYPE=text/html:Church-wide Rummage Sale to support the ministries of our women's group\, the Evening Circle. 
LOCATION:St. John Evangelical UCC\, Faith Hall\, behind church with parking off Seminary or Goether.
UID:e.504.187
SEQUENCE:3
DTSTAMP:20260425T155257Z
URL:http://business.discovercollinsville.com/events/details/event-at-st-john-evangelical-ucc-05-06-2010-187
END:VEVENT

END:VCALENDAR
