BEGIN:VCALENDAR
VERSION:2.0
PRODID:-//ChamberMaster//Event Calendar 2.0//EN
METHOD:PUBLISH
X-PUBLISHED-TTL:P3D
REFRESH-INTERVAL:P3D
CALSCALE:GREGORIAN
BEGIN:VEVENT
DTSTART:20100911T150000Z
DTEND:20100911T170000Z
X-MICROSOFT-CDO-ALLDAYEVENT:FALSE
SUMMARY:Event at Safe-N-Secure Self Storage\, LLC
DESCRIPTION:UNIT AUCTION!!!
X-ALT-DESC;FMTTYPE=text/html:UNIT AUCTION!!!
LOCATION:812 South Morrison Collinsville\, IL 62234
UID:e.504.276
SEQUENCE:3
DTSTAMP:20260423T061236Z
URL:http://business.discovercollinsville.com/events/details/event-at-safe-n-secure-self-storage-llc-09-11-2010-276
END:VEVENT

END:VCALENDAR
