BEGIN:VCALENDAR
VERSION:2.0
PRODID:-//ChamberMaster//Event Calendar 2.0//EN
METHOD:PUBLISH
X-PUBLISHED-TTL:P3D
REFRESH-INTERVAL:P3D
CALSCALE:GREGORIAN
BEGIN:VEVENT
DTSTART:20101013T140000Z
DTEND:20101013T170000Z
X-MICROSOFT-CDO-ALLDAYEVENT:FALSE
SUMMARY:Event at Liberty Tax Service
DESCRIPTION:FREE TAX SCHOOL BEGINS!
X-ALT-DESC;FMTTYPE=text/html:FREE TAX SCHOOL BEGINS!
LOCATION:1097 Beltline Rd. Collinsville\, IL 62234
UID:e.504.293
SEQUENCE:3
DTSTAMP:20260423T061839Z
URL:http://business.discovercollinsville.com/events/details/event-at-liberty-tax-service-10-13-2010-293
END:VEVENT

END:VCALENDAR
