BEGIN:VCALENDAR
VERSION:2.0
PRODID:-//ChamberMaster//Event Calendar 2.0//EN
METHOD:PUBLISH
X-PUBLISHED-TTL:P3D
REFRESH-INTERVAL:P3D
CALSCALE:GREGORIAN
BEGIN:VEVENT
DTSTART:20091003T140000Z
DTEND:20091003T170000Z
X-MICROSOFT-CDO-ALLDAYEVENT:FALSE
SUMMARY:Event at Home Federal Savings & Loan
DESCRIPTION:Home Federal Savings & Loan is sponsoring a free Community Shred Day at its downtown Collinsville parking lot on October 3\, 2009 to help the public fight consumer identity theft.  Residents of Collinsville\, Maryville and surrounding areas are invited to dispose of unwanted personal documents securely and at no charge via a commercial shredding truck stationed in the bank?s parking lot at 100 East Clay Street from 9:00 a.m. ? Noon.  Materials that can be shredded include old tax records\, medical information\, bills\, unsolicited credit card applications\, old bank statements\, credit cards\, CDs and other financial records.  Materials may be stapled\, paper clipped or bound\, including large 3-ring binders.
X-ALT-DESC;FMTTYPE=text/html:Home Federal Savings & Loan is sponsoring a free Community Shred Day at its downtown Collinsville parking lot on October 3\, 2009 to help the public fight consumer identity theft.  Residents of Collinsville\, Maryville and surrounding areas are invited to dispose of unwanted personal documents securely and at no charge via a commercial shredding truck stationed in the bank?s parking lot at 100 East Clay Street from 9:00 a.m. ? Noon.  Materials that can be shredded include old tax records\, medical information\, bills\, unsolicited credit card applications\, old bank statements\, credit cards\, CDs and other financial records.  Materials may be stapled\, paper clipped or bound\, including large 3-ring binders. 
LOCATION:100 E. Clay\, downtown Collinsville
UID:e.504.65
SEQUENCE:3
DTSTAMP:20260426T020309Z
URL:http://business.discovercollinsville.com/events/details/event-at-home-federal-savings-loan-10-03-2009-65
END:VEVENT

END:VCALENDAR
