BEGIN:VCALENDAR
VERSION:2.0
PRODID:-//ChamberMaster//Event Calendar 2.0//EN
METHOD:PUBLISH
X-PUBLISHED-TTL:P3D
REFRESH-INTERVAL:P3D
CALSCALE:GREGORIAN
BEGIN:VEVENT
DTSTART:20110628T150000Z
DTEND:20110628T180000Z
X-MICROSOFT-CDO-ALLDAYEVENT:FALSE
SUMMARY:Event at Cedarhurst Assisted Living
DESCRIPTION:Cedarhurst Assisted Living along with Mississippi Valley Regional Blood Center will host a blood drive.  All presenting donors will receive a pair of Gateway Grizzlies tickets!  To shcedule and appointment cal 618-659-0542 or log onto www.bloodcenterimpact.org\, sponsor code: 9886.
X-ALT-DESC;FMTTYPE=text/html:Cedarhurst Assisted Living along with Mississippi Valley Regional Blood Center will host a blood drive.&nbsp\; All presenting donors will receive a pair of Gateway Grizzlies tickets!&nbsp\; To shcedule and appointment cal 618-659-0542 or log onto <a href="http://www.bloodcenterimpact.org">www.bloodcenterimpact.org</a>\, sponsor code: 9886.&nbsp\; 
LOCATION:1207 Vandalia Ave Collinsville\, IL 62234
UID:e.504.408
SEQUENCE:3
DTSTAMP:20260422T140729Z
URL:http://business.discovercollinsville.com/events/details/event-at-cedarhurst-assisted-living-06-28-2011-408
END:VEVENT

END:VCALENDAR
