BEGIN:VCALENDAR
VERSION:2.0
PRODID:-//ChamberMaster//Event Calendar 2.0//EN
METHOD:PUBLISH
X-PUBLISHED-TTL:P3D
REFRESH-INTERVAL:P3D
CALSCALE:GREGORIAN
BEGIN:VEVENT
DTSTART:20100118T160000Z
DTEND:20100118T180000Z
X-MICROSOFT-CDO-ALLDAYEVENT:FALSE
SUMMARY:Event at Cedarhurst Assisted Living
DESCRIPTION:EldercareUSA Workshop\n\nGuest speaker Don Brown- McGarvey Brown\n\nAid and Assistance for Veterans
X-ALT-DESC;FMTTYPE=text/html:EldercareUSA Workshop\n<br>Guest speaker Don Brown- McGarvey Brown\n<br>Aid and Assistance for Veterans
LOCATION:Cedarhurst of Collinsville 1207 Vandalia Ave Collinsville\, IL 62234
UID:e.504.317
SEQUENCE:3
DTSTAMP:20260425T222330Z
URL:http://business.discovercollinsville.com/events/details/event-at-cedarhurst-assisted-living-01-18-2010-317
END:VEVENT

END:VCALENDAR
