BEGIN:VCALENDAR
VERSION:2.0
PRODID:-//ChamberMaster//Event Calendar 2.0//EN
METHOD:PUBLISH
X-PUBLISHED-TTL:P3D
REFRESH-INTERVAL:P3D
CALSCALE:GREGORIAN
BEGIN:VEVENT
DTSTART:20101114T010000Z
DTEND:20101114T050000Z
X-MICROSOFT-CDO-ALLDAYEVENT:FALSE
SUMMARY:Euchre Tournament
DESCRIPTION:Euchre Tournament to benefit Hospice of Southern Illinois.  Saturday\, November 13\, 2010.  Tournament begins at 7:00 pm until ???  $10 per person\, come join us!  No partner needed.  For
X-ALT-DESC;FMTTYPE=text/html:Euchre Tournament to benefit Hospice of Southern Illinois.  Saturday\, November 13\, 2010.  Tournament begins at 7:00 pm until ???  $10 per person\, come join us!  No partner needed.  For 
LOCATION:The American Legion\, 1414 W. Main Street\, Mascoutah\, IL 62258 (across from Mascoutah High School on Route 177).
UID:e.504.311
SEQUENCE:3
DTSTAMP:20260423T044431Z
URL:http://business.discovercollinsville.com/events/details/euchre-tournament-11-13-2010-311
END:VEVENT

END:VCALENDAR
