BEGIN:VCALENDAR
VERSION:2.0
PRODID:-//ChamberMaster//Event Calendar 2.0//EN
METHOD:PUBLISH
X-PUBLISHED-TTL:P3D
REFRESH-INTERVAL:P3D
CALSCALE:GREGORIAN
BEGIN:VEVENT
DTSTART:20110430T230000Z
DTEND:20110501T040000Z
X-MICROSOFT-CDO-ALLDAYEVENT:FALSE
SUMMARY:End of The Year Gala (formerly known as Jazz Night)
DESCRIPTION:CHS Band presents...End of the Year Gala (formerly known as Jazz Night)\n\nJoin us for a night of celebration\, entertainment by The Original Knights of Swing and the award winning CHS Band\, silent auction and dinner.
X-ALT-DESC;FMTTYPE=text/html:CHS Band presents...End of the Year Gala (formerly known as Jazz Night)\n<br>Join us for a night of celebration\, entertainment by The Original Knights of Swing and the award winning CHS Band\, silent auction and dinner.
LOCATION:American Legion in Collinsville
UID:e.504.348
SEQUENCE:3
DTSTAMP:20260422T181950Z
URL:http://business.discovercollinsville.com/events/details/end-of-the-year-gala-formerly-known-as-jazz-night-04-30-2011-348
END:VEVENT

END:VCALENDAR
