BEGIN:VCALENDAR
VERSION:2.0
PRODID:-//ChamberMaster//Event Calendar 2.0//EN
METHOD:PUBLISH
X-PUBLISHED-TTL:P3D
REFRESH-INTERVAL:P3D
CALSCALE:GREGORIAN
BEGIN:VEVENT
DTSTART:20091120T000000Z
DTEND:20091120T000000Z
X-MICROSOFT-CDO-ALLDAYEVENT:FALSE
SUMMARY:Dedication
DESCRIPTION:The Arth/Flesher Memorial Resident Gaming Room at Collinsville Rehabilitation and Physical Therapy.
X-ALT-DESC;FMTTYPE=text/html:<div>The Arth/Flesher Memorial Resident Gaming Room at&nbsp\;Collinsville Rehabilitation and Physical Therapy.</div>
LOCATION:614 SummitCollinsville\, IL 62234
UID:e.504.118
SEQUENCE:3
DTSTAMP:20260426T001029Z
URL:http://business.discovercollinsville.com/events/details/dedication-11-19-2009-118
END:VEVENT

END:VCALENDAR
