BEGIN:VCALENDAR
VERSION:2.0
PRODID:-//ChamberMaster//Event Calendar 2.0//EN
METHOD:PUBLISH
X-PUBLISHED-TTL:P3D
REFRESH-INTERVAL:P3D
CALSCALE:GREGORIAN
BEGIN:VEVENT
DTSTART;VALUE=DATE:20101208
DTEND;VALUE=DATE:20101209
TRANSP:TRANSPARENT
X-MICROSOFT-CDO-ALLDAYEVENT:TRUE
SUMMARY:Dec 2010 Networking Lunch
DESCRIPTION:Collinsville Area Recreation District will present a look at how CARD has helped make Collinsville a better place to live\, both now and in the future\, In honor of the 20th Anniversary of CARD\, hear about the growth of the district since its inception on Nov. 13\, 1990 and learn about some of the current and future opportunities the district is pursuing. Special attention will be given to the schedule of 20th Anniversary events and celebrations being presented throughout the coming year.
X-ALT-DESC;FMTTYPE=text/html:Collinsville Area Recreation District will present a look at how CARD has&nbsp\;helped make Collinsville a better place to live\, both now and in the future\, In honor of the 20th Anniversary of CARD\, hear about the growth of the district since its inception on Nov. 13\, 1990 and learn about some of the current and future opportunities the district is pursuing. Special attention will be given to the schedule of 20th Anniversary events and celebrations being presented throughout the coming year.
LOCATION:Knights of Columbus Hall\, Columbus Drive (off Illinois 157)
UID:e.504.313
SEQUENCE:3
DTSTAMP:20260423T011610Z
URL:http://business.discovercollinsville.com/events/details/dec-2010-networking-lunch-12-08-2010-313
END:VEVENT

END:VCALENDAR
