BEGIN:VCALENDAR
VERSION:2.0
PRODID:-//ChamberMaster//Event Calendar 2.0//EN
METHOD:PUBLISH
X-PUBLISHED-TTL:P3D
REFRESH-INTERVAL:P3D
CALSCALE:GREGORIAN
BEGIN:VEVENT
DTSTART:20100710T213000Z
DTEND:20100711T030000Z
X-MICROSOFT-CDO-ALLDAYEVENT:FALSE
SUMMARY:Dash 'n Splash
DESCRIPTION:5K run/walk with private party at Splash City for all participants and their family and friends. Registration starts at 4:30 p.m. and is $29 per person. After party includes awards ceremony\, music and dinner from Applebee's Neighborhood Bar and Grill. Open to all age groups.
X-ALT-DESC;FMTTYPE=text/html:5K run/walk with private party at Splash City for all participants and their family and friends. Registration starts at 4:30 p.m. and is $29 per person. After party includes awards ceremony\, music and dinner from Applebee's Neighborhood Bar and Grill. Open to all age groups.
LOCATION:10 Gateway Drive\, Collinsville\, IL.
UID:e.504.277
SEQUENCE:3
DTSTAMP:20260423T095301Z
URL:http://business.discovercollinsville.com/events/details/dash-n-splash-07-10-2010-277
END:VEVENT

END:VCALENDAR
