BEGIN:VCALENDAR
VERSION:2.0
PRODID:-//ChamberMaster//Event Calendar 2.0//EN
METHOD:PUBLISH
X-PUBLISHED-TTL:P3D
REFRESH-INTERVAL:P3D
CALSCALE:GREGORIAN
BEGIN:VEVENT
DTSTART;VALUE=DATE:20101108
DTEND;VALUE=DATE:20101109
TRANSP:TRANSPARENT
X-MICROSOFT-CDO-ALLDAYEVENT:TRUE
SUMMARY:Cupcake Fundraiser
DESCRIPTION:YUMMY CUPCAKES-need a sweet treat for snacks for a meeting?!! For every cupcake you purchase on Monday\, November 8\, 2010\, Cup Cake Company\, will donate 10% of the cupcake sales and the CUP will donate 10% of the day?s sales to Hospice of Southern Illinois!  Our mission at Hospice of Southern Illinois is to enhance the quality of life for individuals and their loved ones touched by a terminal illness.  For more information contact Kathy at 235-1703 or kwilson@hospice.org.
X-ALT-DESC;FMTTYPE=text/html:YUMMY CUPCAKES-need a sweet treat for snacks for a meeting?!! For every cupcake you purchase on Monday\, November 8\, 2010\, Cup Cake Company\, will donate 10% of the cupcake sales and the CUP will donate 10% of the day?s sales to Hospice of Southern Illinois!  Our mission at Hospice of Southern Illinois is to enhance the quality of life for individuals and their loved ones touched by a terminal illness.  For more information contact Kathy at 235-1703 or kwilson@hospice.org.  \n<br>
LOCATION:the CUP\, 1057 Century Drive\, Edwardsville\, 656-2287. Cup Cake Company\, 324 East Main Street\, Belleville (inside of Grimm & Gorly Flowers & Gifts)\, 234- 4466.
UID:e.504.310
SEQUENCE:3
DTSTAMP:20260423T025117Z
URL:http://business.discovercollinsville.com/events/details/cupcake-fundraiser-11-08-2010-310
END:VEVENT

END:VCALENDAR
