BEGIN:VCALENDAR
VERSION:2.0
PRODID:-//ChamberMaster//Event Calendar 2.0//EN
METHOD:PUBLISH
X-PUBLISHED-TTL:P3D
REFRESH-INTERVAL:P3D
CALSCALE:GREGORIAN
BEGIN:VEVENT
DTSTART:20100410T140000Z
DTEND:20100410T220000Z
X-MICROSOFT-CDO-ALLDAYEVENT:FALSE
SUMMARY:Creating Keepsakes Convention
DESCRIPTION:Creating Keepsakes Convention
X-ALT-DESC;FMTTYPE=text/html:<div>Creating Keepsakes Convention</div>
LOCATION:1 Gateway Dr.Collinsville\, IL 62234
UID:e.504.172
SEQUENCE:3
DTSTAMP:20260425T155014Z
URL:http://business.discovercollinsville.com/events/details/creating-keepsakes-convention-04-10-2010-172
END:VEVENT

END:VCALENDAR
