BEGIN:VCALENDAR
VERSION:2.0
PRODID:-//ChamberMaster//Event Calendar 2.0//EN
METHOD:PUBLISH
X-PUBLISHED-TTL:P3D
REFRESH-INTERVAL:P3D
CALSCALE:GREGORIAN
BEGIN:VEVENT
DTSTART:20100503T123000Z
DTEND:20100503T130000Z
X-MICROSOFT-CDO-ALLDAYEVENT:FALSE
SUMMARY:Congressional Prayer Brekfast
DESCRIPTION:Congressional Prayer Breakfast
X-ALT-DESC;FMTTYPE=text/html:<div>Congressional Prayer Breakfast</div>
LOCATION:1 Gateway Dr.Collinsville\, IL 62234
UID:e.504.177
SEQUENCE:3
DTSTAMP:20260425T141432Z
URL:http://business.discovercollinsville.com/events/details/congressional-prayer-brekfast-05-03-2010-177
END:VEVENT

END:VCALENDAR
