BEGIN:VCALENDAR
VERSION:2.0
PRODID:-//ChamberMaster//Event Calendar 2.0//EN
METHOD:PUBLISH
X-PUBLISHED-TTL:P3D
REFRESH-INTERVAL:P3D
CALSCALE:GREGORIAN
BEGIN:VEVENT
DTSTART:20110422T170000Z
DTEND:20110422T180000Z
X-MICROSOFT-CDO-ALLDAYEVENT:FALSE
SUMMARY:Community Good Friday Service
DESCRIPTION:
X-ALT-DESC;FMTTYPE=text/html:
LOCATION:First United Methodist Church at Noon
UID:e.504.372
SEQUENCE:3
DTSTAMP:20260422T180115Z
URL:http://business.discovercollinsville.com/events/details/community-good-friday-service-04-22-2011-372
END:VEVENT

END:VCALENDAR
