BEGIN:VCALENDAR
VERSION:2.0
PRODID:-//ChamberMaster//Event Calendar 2.0//EN
METHOD:PUBLISH
X-PUBLISHED-TTL:P3D
REFRESH-INTERVAL:P3D
CALSCALE:GREGORIAN
BEGIN:VEVENT
DTSTART:20091114T233000Z
DTEND:20091115T030000Z
X-MICROSOFT-CDO-ALLDAYEVENT:FALSE
SUMMARY:Community Awards Night & Auction
DESCRIPTION:Community Awards Night & Auction. Awards for the Policeman\, Fireman\, & Teacher of the year\, as well as The Spirit of Excellence Award will  also be presented. There will also be a silent auction that  will include an array of gift baskets\, and the oral auction to focus on highly desirable items that have been donated by Chambers members and/or area businesses. This event will also feature a wonderful buffet of tantalizing foods and beverages.
X-ALT-DESC;FMTTYPE=text/html:<div>Community Awards Night &amp\; Auction.&nbsp\;Awards for&nbsp\;the Policeman\, Fireman\, &amp\; Teacher of the year\, as well as The Spirit of Excellence Award will&nbsp\; also be presented. There will also be a&nbsp\;silent auction that&nbsp\; will include an array of gift baskets\, and the oral auction to&nbsp\;focus on&nbsp\;highly desirable&nbsp\;items that have&nbsp\;been&nbsp\;donated by Chambers members and/or area businesses.&nbsp\;This event will also feature a wonderful buffet of tantalizing foods and beverages.</div>
LOCATION:Gateway Center
UID:e.504.34
SEQUENCE:3
DTSTAMP:20260426T020126Z
URL:http://business.discovercollinsville.com/events/details/community-awards-night-auction-11-14-2009-34
END:VEVENT

END:VCALENDAR
