BEGIN:VCALENDAR
VERSION:2.0
PRODID:-//ChamberMaster//Event Calendar 2.0//EN
METHOD:PUBLISH
X-PUBLISHED-TTL:P3D
REFRESH-INTERVAL:P3D
CALSCALE:GREGORIAN
BEGIN:VEVENT
DTSTART:20101113T233000Z
DTEND:20101114T030000Z
X-MICROSOFT-CDO-ALLDAYEVENT:FALSE
SUMMARY:Community Awards Night and Auction
DESCRIPTION:It is time for the Annual Community Awards Night and Auction. Join us as we celebrate our outstanding leaders in the community such as the Teacher of the Year\, and the Policeman of the Year. There will be a silent and an oral auction featuring wonderful donations. There will be a wonderful buffet\, beverages\, and great fun.
X-ALT-DESC;FMTTYPE=text/html:<div>It is time for the Annual Community Awards Night and Auction. Join us as we celebrate our outstanding&nbsp\;leaders in the community such as the Teacher of the Year\, and the&nbsp\;Policeman of the Year.&nbsp\;There will be a silent and an oral auction featuring wonderful donations. There will be a wonderful buffet\, beverages\, and great fun.&nbsp\;&nbsp\;</div>
LOCATION:Gateway Center1 Gateway Dr.Collinsville\, IL 62234
UID:e.504.149
SEQUENCE:3
DTSTAMP:20260423T044358Z
URL:http://business.discovercollinsville.com/events/details/community-awards-night-and-auction-11-13-2010-149
END:VEVENT

END:VCALENDAR
